BEGIN:VCALENDAR
VERSION:2.0
PRODID:-//Ruderclub Sorpesee 1956 e.V. - ECPv6.15.20//NONSGML v1.0//EN
CALSCALE:GREGORIAN
METHOD:PUBLISH
X-ORIGINAL-URL:https://www.rc-sorpesee.de
X-WR-CALDESC:Veranstaltungen für Ruderclub Sorpesee 1956 e.V.
REFRESH-INTERVAL;VALUE=DURATION:PT1H
X-Robots-Tag:noindex
X-PUBLISHED-TTL:PT1H
BEGIN:VTIMEZONE
TZID:Europe/Berlin
BEGIN:DAYLIGHT
TZOFFSETFROM:+0100
TZOFFSETTO:+0200
TZNAME:CEST
DTSTART:20190331T010000
END:DAYLIGHT
BEGIN:STANDARD
TZOFFSETFROM:+0200
TZOFFSETTO:+0100
TZNAME:CET
DTSTART:20191027T010000
END:STANDARD
BEGIN:DAYLIGHT
TZOFFSETFROM:+0100
TZOFFSETTO:+0200
TZNAME:CEST
DTSTART:20200329T010000
END:DAYLIGHT
BEGIN:STANDARD
TZOFFSETFROM:+0200
TZOFFSETTO:+0100
TZNAME:CET
DTSTART:20201025T010000
END:STANDARD
BEGIN:DAYLIGHT
TZOFFSETFROM:+0100
TZOFFSETTO:+0200
TZNAME:CEST
DTSTART:20210328T010000
END:DAYLIGHT
BEGIN:STANDARD
TZOFFSETFROM:+0200
TZOFFSETTO:+0100
TZNAME:CET
DTSTART:20211031T010000
END:STANDARD
END:VTIMEZONE
BEGIN:VEVENT
DTSTART;VALUE=DATE:20200202
DTEND;VALUE=DATE:20200203
DTSTAMP:20260422T153602
CREATED:20180119T151520Z
LAST-MODIFIED:20200108T103203Z
UID:2709-1580601600-1580687999@www.rc-sorpesee.de
SUMMARY:NWRV Indoor-Cup Essen-Kettwig
DESCRIPTION:Der „24. NWRV Indoor-Cup“ wird am Sonntag\, den 02.02.2019 in der THG-Halle ausgetragen.\n„Deutschlands Ergo-Tempel Nr. 1“ erfährt dann eine neuerliche Auszeichnung\, denn im Rahmen dieser Veranstaltung werden zum 3. Mal hintereinander auch die Deutschen Indoor-Rowing Meister ermittelt.\nDer Deutsche Ruderverband und der Hauptsponsor\, die Firma Concept2 Deutschland\, tragen die Meisterschaften mit Vorläufen und Finals an einem Tag in Essen-Kettwig aus. Ein steiniger Weg also bis zum Meistertitel!
URL:https://www.rc-sorpesee.de/event/nwrv-indoor-cup-essen-kettwig/
LOCATION:THG-Halle Essen\, Hauptstraße 148\, Essen\, NRW\, 45219\, Deutschland
CATEGORIES:Regatten
END:VEVENT
BEGIN:VEVENT
DTSTART;TZID=Europe/Berlin:20200208T183000
DTEND;TZID=Europe/Berlin:20200208T183000
DTSTAMP:20260422T153602
CREATED:20191001T095540Z
LAST-MODIFIED:20191001T095540Z
UID:4657-1581186600-1581186600@www.rc-sorpesee.de
SUMMARY:RCS 1 - SCU Emlichheim 2
DESCRIPTION:
URL:https://www.rc-sorpesee.de/event/rcs-1-scu-emlichheim-2/
LOCATION:Sporthalle Schulzentrum Sundern\, Berliner Straße 45\, Sundern\, 59846\, Deutschland
CATEGORIES:Volleyball
END:VEVENT
BEGIN:VEVENT
DTSTART;TZID=Europe/Berlin:20200222T183000
DTEND;TZID=Europe/Berlin:20200222T183000
DTSTAMP:20260422T153602
CREATED:20191001T095540Z
LAST-MODIFIED:20191001T095540Z
UID:4658-1582396200-1582396200@www.rc-sorpesee.de
SUMMARY:RCS 1 - SV Wietmarschen
DESCRIPTION:
URL:https://www.rc-sorpesee.de/event/rcs-1-sv-wietmarschen/
LOCATION:Sporthalle Schulzentrum Sundern\, Berliner Straße 45\, Sundern\, 59846\, Deutschland
CATEGORIES:Volleyball
END:VEVENT
END:VCALENDAR