BEGIN:VCALENDAR
VERSION:2.0
PRODID:-//Ruderclub Sorpesee 1956 e.V. - ECPv6.15.20//NONSGML v1.0//EN
CALSCALE:GREGORIAN
METHOD:PUBLISH
X-WR-CALNAME:Ruderclub Sorpesee 1956 e.V.
X-ORIGINAL-URL:https://www.rc-sorpesee.de
X-WR-CALDESC:Veranstaltungen für Ruderclub Sorpesee 1956 e.V.
REFRESH-INTERVAL;VALUE=DURATION:PT1H
X-Robots-Tag:noindex
X-PUBLISHED-TTL:PT1H
BEGIN:VTIMEZONE
TZID:Europe/Berlin
BEGIN:DAYLIGHT
TZOFFSETFROM:+0100
TZOFFSETTO:+0200
TZNAME:CEST
DTSTART:20250330T010000
END:DAYLIGHT
BEGIN:STANDARD
TZOFFSETFROM:+0200
TZOFFSETTO:+0100
TZNAME:CET
DTSTART:20251026T010000
END:STANDARD
BEGIN:DAYLIGHT
TZOFFSETFROM:+0100
TZOFFSETTO:+0200
TZNAME:CEST
DTSTART:20260329T010000
END:DAYLIGHT
BEGIN:STANDARD
TZOFFSETFROM:+0200
TZOFFSETTO:+0100
TZNAME:CET
DTSTART:20261025T010000
END:STANDARD
BEGIN:DAYLIGHT
TZOFFSETFROM:+0100
TZOFFSETTO:+0200
TZNAME:CEST
DTSTART:20270328T010000
END:DAYLIGHT
BEGIN:STANDARD
TZOFFSETFROM:+0200
TZOFFSETTO:+0100
TZNAME:CET
DTSTART:20271031T010000
END:STANDARD
END:VTIMEZONE
BEGIN:VEVENT
DTSTART;VALUE=DATE:20260829
DTEND;VALUE=DATE:20260830
DTSTAMP:20260421T055446
CREATED:20180722T135315Z
LAST-MODIFIED:20260116T110338Z
UID:3408-1787961600-1788047999@www.rc-sorpesee.de
SUMMARY:70. RCS-Vereinsgeburtstag
DESCRIPTION:
URL:https://www.rc-sorpesee.de/event/rcs-vereinsgeburtstag/
LOCATION:Ruderclub Sorpesee 1956 e.V.\, Am Sorpesee 43\, Sundern\, 59846\, Deutschland
CATEGORIES:Gesamtverein
END:VEVENT
BEGIN:VEVENT
DTSTART;VALUE=DATE:20261128
DTEND;VALUE=DATE:20261129
DTSTAMP:20260421T055446
CREATED:20170917T124024Z
LAST-MODIFIED:20260324T075424Z
UID:2123-1795824000-1795910399@www.rc-sorpesee.de
SUMMARY:Skibasar
DESCRIPTION:Wir laden euch ein zum Skibasar an den Sorpesee! \nHier findet ihr die Infos zum Ablauf. Achtung: Auch in diesem Jahr findet der Skibasar samstags statt! \n11-13 Uhr: Annahme Eurer (Winter-) Sportartikel \nWenn möglich\, bringt schon zuhause Schilder an den Artikeln an\, die wir dann bei der Annahme mit Artikelnummer\, Größe und Preis versehen können (das beschleunigt die Annahme für alle). Macht euch auch Gedanken\, was die Artikel kosten sollen! Ansonsten helfen wir bei der Annahme auch so gut es geht bei der Preisfindung.\nGenerell gilt: 10% vom Kaufpreis gehen in unsere Jugendkasse\, pro verkauftem Artikel aber mindestens 5 €. Wird der Artikel nicht verkauft\, könnt ihr ihn kostenfrei nach Verkaufsschluss gegen 18 Uhr wieder abholen. Ihr bekommt eine Quittung mit allen Artikelnummern die abgegeben wurden um später kontrollieren zu können welche Artikel verkauft wurden oder wieder abgeholt werden müssen. Wenn ihr eure Artikel schon online anmelden wollt\, nutzt bitte das unten eingefügte Formular! \n14-16 Uhr: Verkauf! \nDie Artikel stehen für alle Interessenten zum Verkauf. Bitte beachtet\, dass wir mit niemandem über den Preis verhandeln können\, da die Artikel nie in unserem Besitz sind! \nab 16 Uhr: Abholung…\n… von Geld oder Ware. Wir bemühen uns euch auch frühzeitig Informationen zu geben welche Artikel verkauft wurden und welche ihr noch wiederfinden müsstet. Leider ist das direkt um 18 Uhr noch recht schwierig\, da evtl. noch Leute mit euren Sachen auf dem Arm vor der Kasse stehen. \nIm Anschluss:\nIn unserem „Ruderstübli“ wollen wir mit allen Gästen\, Mitgliedern und Wintersportlern ein bisschen Après-Ski-Stimmung in die frühe Wintersaison bringen. Wir freuen uns bei bester Verpflegung und Après-Ski-Klassikern auf einen schönen Abend! \n                    Kinderski sind für alle Altersgruppen und Größen erhältlich
URL:https://www.rc-sorpesee.de/event/skibasar/
LOCATION:Ruderclub Sorpesee 1956 e.V.\, Am Sorpesee 43\, Sundern\, 59846\, Deutschland
CATEGORIES:Gesamtverein
END:VEVENT
BEGIN:VEVENT
DTSTART;TZID=Europe/Berlin:20261205T160000
DTEND;TZID=Europe/Berlin:20261205T180000
DTSTAMP:20260421T055446
CREATED:20211103T164637Z
LAST-MODIFIED:20260324T075345Z
UID:6159-1796486400-1796493600@www.rc-sorpesee.de
SUMMARY:Nikolausfeier
DESCRIPTION:  \nDie Anmeldung ist leider nicht mehr möglich.
URL:https://www.rc-sorpesee.de/event/nikolausfeier-2/
LOCATION:Ruderclub Sorpesee 1956 e.V.\, Am Sorpesee 43\, Sundern\, 59846\, Deutschland
CATEGORIES:Gesamtverein
END:VEVENT
BEGIN:VEVENT
DTSTART;TZID=Europe/Berlin:20261228T190000
DTEND;TZID=Europe/Berlin:20261228T230000
DTSTAMP:20260421T055446
CREATED:20171002T184500Z
LAST-MODIFIED:20260324T075330Z
UID:2253-1798484400-1798498800@www.rc-sorpesee.de
SUMMARY:Herrenabend
DESCRIPTION:Bei Schinkenbrot und frischem Veltins das Jahr ausklingen lassen.
URL:https://www.rc-sorpesee.de/event/herrenabend/
LOCATION:Ruderclub Sorpesee 1956 e.V.\, Am Sorpesee 43\, Sundern\, 59846\, Deutschland
CATEGORIES:Gesamtverein
END:VEVENT
END:VCALENDAR